BEGIN:VCALENDAR
VERSION:2.0
PRODID:-//Power Technology, Inc. - ECPv6.15.20//NONSGML v1.0//EN
CALSCALE:GREGORIAN
METHOD:PUBLISH
X-ORIGINAL-URL:https://www.powertechnology.com
X-WR-CALDESC:Events for Power Technology, Inc.
REFRESH-INTERVAL;VALUE=DURATION:PT1H
X-Robots-Tag:noindex
X-PUBLISHED-TTL:PT1H
BEGIN:VTIMEZONE
TZID:America/Chicago
BEGIN:DAYLIGHT
TZOFFSETFROM:-0600
TZOFFSETTO:-0500
TZNAME:CDT
DTSTART:20220313T080000
END:DAYLIGHT
BEGIN:STANDARD
TZOFFSETFROM:-0500
TZOFFSETTO:-0600
TZNAME:CST
DTSTART:20221106T070000
END:STANDARD
BEGIN:DAYLIGHT
TZOFFSETFROM:-0600
TZOFFSETTO:-0500
TZNAME:CDT
DTSTART:20230312T080000
END:DAYLIGHT
BEGIN:STANDARD
TZOFFSETFROM:-0500
TZOFFSETTO:-0600
TZNAME:CST
DTSTART:20231105T070000
END:STANDARD
BEGIN:DAYLIGHT
TZOFFSETFROM:-0600
TZOFFSETTO:-0500
TZNAME:CDT
DTSTART:20240310T080000
END:DAYLIGHT
BEGIN:STANDARD
TZOFFSETFROM:-0500
TZOFFSETTO:-0600
TZNAME:CST
DTSTART:20241103T070000
END:STANDARD
END:VTIMEZONE
BEGIN:VEVENT
DTSTART;TZID=America/Chicago:20230213T080000
DTEND;TZID=America/Chicago:20230215T170000
DTSTAMP:20260420T055607
CREATED:20220616T202641Z
LAST-MODIFIED:20221220T194423Z
UID:17874-1676275200-1676480400@www.powertechnology.com
SUMMARY:Geo Week 2023
DESCRIPTION:  \nMark your calendar:  13 February 2023 – 15 Februrary 2023 \nPOWER TECHNOLOGY\, INC – BOOTH #942 \nDenver Convention Center \nGeo Week is the premier event for increased integration between the built environment\, advanced airborne/terrestrial technologies\, and commercial 3D technologies\, bringing together former stand-alone events AEC Next Technology Expo & Conference\, International Lidar Mapping Forum\, and SPAR 3D Expo & Conference\, and powerful partnership events including ASPRS Annual Conference\, MAPPS Annual Conference and USIBD Annual Symposium. \nThe newest solutions for geospatial and the built world all under one vendor-neutral roof! Compare and qualify the technologies disrupting countless industries and experience that by coming together they are even more powerful for project delivery and asset lifecycle. You’ll experience the entirety of BIM\, advanced airborne/terrestrial technologies\, and commercial 3D technologies – now and what’s to come. \nGeo Week is at the forefront of this integration\, providing education\, technology\, and networking for professionals to help businesses to digitize their workflows and break down silos between disciplines. \n \nAre you going to be attending Geo Week 2023? Let’s chat about your laser needs! Fill out the form below. \n\n                \n                        \n                             \n                        \n                        Full Name* Organization/Company* Phone*Business Email*\n                            \n                        What type of laser solution are you looking for?CAPTCHA
URL:https://www.powertechnology.com/event/geo-week-2023/
LOCATION:Denver Convention Center\, 700 14th St\, Denver\, CO\, 80202\, United States
CATEGORIES:Trade Shows and Conferences
ATTACH;FMTTYPE=image/jpeg:https://www.powertechnology.com/wp-content/uploads/gw21_logos_umbrella_stacked_horiz_rgb_1200x675.jpg
END:VEVENT
END:VCALENDAR