BEGIN:VCALENDAR
VERSION:2.0
PRODID:-//Power Technology, Inc. - ECPv6.15.20//NONSGML v1.0//EN
CALSCALE:GREGORIAN
METHOD:PUBLISH
X-WR-CALNAME:Power Technology, Inc.
X-ORIGINAL-URL:https://www.powertechnology.com
X-WR-CALDESC:Events for Power Technology, Inc.
REFRESH-INTERVAL;VALUE=DURATION:PT1H
X-Robots-Tag:noindex
X-PUBLISHED-TTL:PT1H
BEGIN:VTIMEZONE
TZID:America/Chicago
BEGIN:DAYLIGHT
TZOFFSETFROM:-0600
TZOFFSETTO:-0500
TZNAME:CDT
DTSTART:20250309T080000
END:DAYLIGHT
BEGIN:STANDARD
TZOFFSETFROM:-0500
TZOFFSETTO:-0600
TZNAME:CST
DTSTART:20251102T070000
END:STANDARD
BEGIN:DAYLIGHT
TZOFFSETFROM:-0600
TZOFFSETTO:-0500
TZNAME:CDT
DTSTART:20260308T080000
END:DAYLIGHT
BEGIN:STANDARD
TZOFFSETFROM:-0500
TZOFFSETTO:-0600
TZNAME:CST
DTSTART:20261101T070000
END:STANDARD
BEGIN:DAYLIGHT
TZOFFSETFROM:-0600
TZOFFSETTO:-0500
TZNAME:CDT
DTSTART:20270314T080000
END:DAYLIGHT
BEGIN:STANDARD
TZOFFSETFROM:-0500
TZOFFSETTO:-0600
TZNAME:CST
DTSTART:20271107T070000
END:STANDARD
END:VTIMEZONE
BEGIN:VEVENT
DTSTART;TZID=America/Chicago:20260415T080000
DTEND;TZID=America/Chicago:20260417T170000
DTSTAMP:20260420T073736
CREATED:20260113T182840Z
LAST-MODIFIED:20260225T190426Z
UID:20240-1776240000-1776445200@www.powertechnology.com
SUMMARY:2026 Army Aviation Warfighting Summit
DESCRIPTION:Power Technology\, Inc. will be attending the 2026 Army Aviation Warfighting Summit in Nashville\, TN (April 15–17\, 2026)—AAAA’s flagship gathering focused specifically on Army Aviation priorities and continuous transformation. Stop by booth# 2803 to see us! \nIf you’re working ISR/sensing\, avionics test & calibration\, ruggedized optical subsystems\, or next-gen integration where SWaP-C\, thermal margin\, reliability\, and modulation performance are the real constraints\, come connect with our team. We build U.S.-manufactured laser diode modules and pulsed solutions that can be engineered around your requirements—wavelength placement\, optical output stability\, beam shaping\, drive/control interfaces\, and packaging suited for airborne and fielded environments. \nThe Summit brings together stakeholders across the community (including Army Aviation leadership\, acquisition\, maintenance\, simulation\, R&D/S&T\, special operations\, and industry) which makes it a high-signal place to align technical needs with producible hardware.
URL:https://www.powertechnology.com/event/2026-army-aviation-warfighting-summit/
LOCATION:Booth 2803 | Gaylord Opryland Resort & Convention Center – Nashville TN\, 2800 Opryland Drive\, Nashville\, TN\, United States
CATEGORIES:Trade Shows and Conferences
ATTACH;FMTTYPE=image/png:https://www.powertechnology.com/wp-content/uploads/PW-25-2.png
END:VEVENT
END:VCALENDAR